BEGIN:VCALENDAR
VERSION:2.0
PRODID:-//Essex Book Festival - ECPv4.0.4//NONSGML v1.0//EN
CALSCALE:GREGORIAN
METHOD:PUBLISH
X-WR-CALNAME:Essex Book Festival
X-ORIGINAL-URL:http://35.176.91.154
X-WR-CALDESC:Events for Essex Book Festival
BEGIN:VEVENT
DTSTART;TZID="Europe/London":20260620T100000
DTEND;TZID="Europe/London":20260620T160000
DTSTAMP:20260422T154006
CREATED:20260402T152111
LAST-MODIFIED:20260408T102600
UID:11749-1781949600-1781971200@35.176.91.154
SUMMARY:Short Story Studio - One Day Workshop
DESCRIPTION:Short Story Studio\nOne Day Workshop\nFor teens & young adults\nSaturday 20 June 2026\, 10.00am - 4.00pm\nThe Village Hub\, London Road\, Leigh-on-Sea\nWhat you will learn:\n🌟 Create a strong character\n🌟Build a clear beginning\, middle\, and end\n🌟 Keep a story moving with pace\n🌟 Avoid rambling and strengthen structure\n🌟 Use genre techniques for suspense\, horror\, thriller\, or romance\n\nEvery attendee will become a published author!\n\nTickets: £90 - option to pay in instalments. This price includes the costs for creating and publishing the book at a later stage.\n\nFor booking & more information email: fam@glamgirlmedia.com\n\nA six week course of workshops will also be taking place during the summer holidays starting in July. For details email fam@glamgirlmedia.com.\n\n
URL:http://35.176.91.154/event/short-story-studio-one-day-workshop/
LOCATION:861 London Road\, Leigh-on-Sea\, SS0 9SZ
CATEGORIES:For Writers,Partner Event,Workshop
ATTACH;FMTTYPE=image/png:http://35.176.91.154/wp-content/uploads/2026/04/Glamgirl-Media-workshop-3x2-1.png
END:VEVENT
END:VCALENDAR